BEGIN:VCALENDAR
PRODID:-//Microsoft Corporation//Outlook 12.0 MIMEDIR//EN
VERSION:2.0
CALSCALE:GREGORIAN
BEGIN:VEVENT
UID: 0ea0af55-4aa9-420f-a806-7359e5ac4b51
SUMMARY:5a Arhitektuurimuuseumis
DTSTAMP:20260528
DTSTART:20260528
DTEND:20260529
DURATION:P1D
LOCATION:Arhitektuurimuuseum
DESCRIPTION: <p><strong>Link: </strong>https://www.harkujarve.edu.ee/et/koolituste-kalender/5a-arhitektuurimuuseumis</p><p><strong>Hind: </strong></p>
STATUS:CONFIRMED
SEQUENCE:3
X-ALT-DESC;FMTTYPE=text/html:<p><strong>Link: </strong>https://www.harkujarve.edu.ee/et/koolituste-kalender/5a-arhitektuurimuuseumis</p><p><strong>Hind: </strong></p>
X-MICROSOFT-CDO-BUSYSTATUS:OOF
X-MICROSOFT-CDO-IMPORTANCE:1
X-MICROSOFT-DISALLOW-COUNTER:FALSE
X-MS-OLK-ALLOWEXTERNCHECK:TRUE
X-MS-OLK-CONFTYPE:0
X-MICROSOFT-CDO-ALLDAYEVENT:1
X-MICROSOFT-MSNCALENDAR-ALLDAYEVENT:1
END:VEVENT
END:VCALENDAR